BEGIN:VCALENDAR
VERSION:2.0
PRODID:-//AudioTheme 3.0.2
BEGIN:VEVENT
UID:urn:uuid:d7a16c7d-c13e-4866-82b9-c76cea3c95e0
URL:https://freesalamanderexhibit.com/shows/bottom-of-the-hill-san-francisco/
DTSTART;TZID=GMT:20241018T030000
SUMMARY:Bottom of the Hill, San Francisco
DESCRIPTION:Darling Freakhead\, Už Jsme Doma\, Free Salamander Exhibit
LOCATION:Bottom of the Hill\, 1233 17th Street\, San Francisco\, CA\, USA\, 94107
END:VEVENT
END:VCALENDAR
