BEGIN:VCALENDAR
VERSION:2.0
PRODID:-//AudioTheme 3.0.2
BEGIN:VEVENT
UID:urn:uuid:95ceae9a-03c3-4833-9e70-9c2754743a1d
URL:https://freesalamanderexhibit.com/shows/club-congress-tucson/
DTSTART;TZID=GMT:20241022T020000
SUMMARY:Club Congress, Tucson
DESCRIPTION:Free Salamander Exhibit\, Už Jsme Doma
LOCATION:Club Congress\, 311 E Congress St\, Tucson\, AZ\, Tucson\, Arizona\, USA\, 85701
END:VEVENT
END:VCALENDAR
