BEGIN:VCALENDAR
VERSION:2.0
PRODID:-//AudioTheme 3.0.2
BEGIN:VEVENT
UID:urn:uuid:e3b17198-2cf8-492b-8270-6c3f7edff4a8
URL:https://freesalamanderexhibit.com/shows/nile-underground-mesa/
DTSTART;TZID=GMT:20241021T020000
SUMMARY:Nile Underground, Mesa
DESCRIPTION:Free Salamander Exhibit\, TBA
LOCATION:Nile Underground\, 105 W Main St\, Mesa\, AZ \,\, Mesa\, Arizona\, USA\, 85210
END:VEVENT
END:VCALENDAR
