BEGIN:VCALENDAR
VERSION:2.0
PRODID:-//AudioTheme 3.0.2
BEGIN:VEVENT
UID:urn:uuid:d9683d39-f34d-4c6a-a317-9f1d83f0567f
URL:https://freesalamanderexhibit.com/shows/soda-bar-san-diego/
DTSTART;TZID=GMT:20241023T023000
SUMMARY:Soda Bar, San Diego
DESCRIPTION:Free Salamander Exhibit\, Red Fiction\, Action Friend
LOCATION:Soda Bar\, 3615 El Cajon Blvd\, San Diego\, CA\, USA\, 92104
END:VEVENT
END:VCALENDAR
