BEGIN:VCALENDAR
VERSION:2.0
PRODID:-//AudioTheme 3.0.2
BEGIN:VEVENT
UID:urn:uuid:3a945351-fdc1-450f-998b-7bee91695d6f
URL:https://freesalamanderexhibit.com/shows/sommercasino/
DTSTART;TZID=GMT:20180919T180000
SUMMARY:Sommercasino
LOCATION:Sommercasino\, Münchensteinerstrasse 1\, Basel\, \, Switzerland\, 4052
END:VEVENT
END:VCALENDAR
